BEGIN:VCALENDAR
VERSION:2.0
PRODID:-//Prignitz-Museum am Dom Havelberg - ECPv6.15.20//NONSGML v1.0//EN
CALSCALE:GREGORIAN
METHOD:PUBLISH
X-ORIGINAL-URL:https://www.prignitz-museum.de
X-WR-CALDESC:Veranstaltungen für Prignitz-Museum am Dom Havelberg
REFRESH-INTERVAL;VALUE=DURATION:PT1H
X-Robots-Tag:noindex
X-PUBLISHED-TTL:PT1H
BEGIN:VTIMEZONE
TZID:Europe/Berlin
BEGIN:DAYLIGHT
TZOFFSETFROM:+0100
TZOFFSETTO:+0200
TZNAME:CEST
DTSTART:20240331T010000
END:DAYLIGHT
BEGIN:STANDARD
TZOFFSETFROM:+0200
TZOFFSETTO:+0100
TZNAME:CET
DTSTART:20241027T010000
END:STANDARD
BEGIN:DAYLIGHT
TZOFFSETFROM:+0100
TZOFFSETTO:+0200
TZNAME:CEST
DTSTART:20250330T010000
END:DAYLIGHT
BEGIN:STANDARD
TZOFFSETFROM:+0200
TZOFFSETTO:+0100
TZNAME:CET
DTSTART:20251026T010000
END:STANDARD
BEGIN:DAYLIGHT
TZOFFSETFROM:+0100
TZOFFSETTO:+0200
TZNAME:CEST
DTSTART:20260329T010000
END:DAYLIGHT
BEGIN:STANDARD
TZOFFSETFROM:+0200
TZOFFSETTO:+0100
TZNAME:CET
DTSTART:20261025T010000
END:STANDARD
END:VTIMEZONE
BEGIN:VEVENT
DTSTART;VALUE=DATE:20250125
DTEND;VALUE=DATE:20250519
DTSTAMP:20260424T005518
CREATED:20250120T121840Z
LAST-MODIFIED:20250120T121840Z
UID:3162-1737763200-1747612799@www.prignitz-museum.de
SUMMARY:Sonderausstellung 2025 "Handwerk - Werke der Hand"
DESCRIPTION:Eine Erlebnis- und Aktionsausstellung für die ganze Familie! \nDie Ausstellung des Archivs für historische Alltagsfotografie widmet sich den unterschiedlichen Handwerken in ihrer Entwicklung vom Mittelalter bis zur Zeit der DDR. \nAusstellungseröffnung am Samstag\, 25.1.2025 um 15 Uhr \nweitere Informationen \n  \n 
URL:https://www.prignitz-museum.de/event/sonderausstellung-2025-handwerk-werke-der-hand/
LOCATION:Prignitz-Museum am Dom\, Domplatz 3\, Havelberg\, 39539\, Deutschland
CATEGORIES:Ausstellung,für Kinder
END:VEVENT
END:VCALENDAR